BEGIN:VCALENDAR
VERSION:2.0
PRODID:eventora.com
BEGIN:VEVENT
UID:06d62575-99ba-4d50-9211-054aa582fd9c
DTSTAMP:20260420T185434Z
STATUS:CONFIRMED
DTSTART;TZID=GTB Standard Time:20250507T160000Z
DTEND;TZID=GTB Standard Time:20250507T180000Z
SUMMARY:Dimming the Sun με τον Βασίλη Παπαγεωργίου | Παρουσίαση βιβλίου, συζήτηση, performance, γλυπτική και βίντεο εγκατάσταση
LOCATION:-1 ΣΤΕΓΗ ΙΔΡΥΜΑΤΟΣ ΩΝΑΣΗ - Λεωφόρος Ανδρέα Συγγρού 107 - 117 45 Αθή
DESCRIPTION: 
BEGIN:VALARM
DESCRIPTION:Dimming the Sun με τον Βασίλη Παπαγεωργίου | Παρουσίαση βιβλίου, συζήτηση, performance, γλυπτική και βίντεο εγκατάσταση
TRIGGER:-PT15M
ACTION:DISPLAY
END:VALARM
TRANSP:OPAQUE
END:VEVENT
END:VCALENDAR
