BEGIN:VCALENDAR
VERSION:2.0
PRODID:eventora.com
BEGIN:VEVENT
UID:77b3546e-41a2-4d15-b00c-8d27b3bff0d4
DTSTAMP:20260419T213416Z
STATUS:CONFIRMED
DTSTART;TZID=GTB Standard Time:20250521T173000Z
DTEND;TZID=GTB Standard Time:20250521T193000Z
SUMMARY:Benjamin Labatut | In conversation with Afroditi Panagiotakou
LOCATION:MAIN STAGE - 107-109 Syngrou Avenue - 117 45 Athens - Attica - Greece
DESCRIPTION: 
BEGIN:VALARM
DESCRIPTION:Benjamin Labatut | In conversation with Afroditi Panagiotakou
TRIGGER:-PT15M
ACTION:DISPLAY
END:VALARM
TRANSP:OPAQUE
END:VEVENT
END:VCALENDAR
